BEGIN:VCALENDAR
VERSION:2.0
PRODID:-//Frank DeBlasi - ECPv6.15.20//NONSGML v1.0//EN
CALSCALE:GREGORIAN
METHOD:PUBLISH
X-ORIGINAL-URL:https://frankdeblasi.com
X-WR-CALDESC:Events for Frank DeBlasi
REFRESH-INTERVAL;VALUE=DURATION:PT1H
X-Robots-Tag:noindex
X-PUBLISHED-TTL:PT1H
BEGIN:VTIMEZONE
TZID:America/New_York
BEGIN:DAYLIGHT
TZOFFSETFROM:-0500
TZOFFSETTO:-0400
TZNAME:EDT
DTSTART:20210314T070000
END:DAYLIGHT
BEGIN:STANDARD
TZOFFSETFROM:-0400
TZOFFSETTO:-0500
TZNAME:EST
DTSTART:20211107T060000
END:STANDARD
BEGIN:DAYLIGHT
TZOFFSETFROM:-0500
TZOFFSETTO:-0400
TZNAME:EDT
DTSTART:20220313T070000
END:DAYLIGHT
BEGIN:STANDARD
TZOFFSETFROM:-0400
TZOFFSETTO:-0500
TZNAME:EST
DTSTART:20221106T060000
END:STANDARD
BEGIN:DAYLIGHT
TZOFFSETFROM:-0500
TZOFFSETTO:-0400
TZNAME:EDT
DTSTART:20230312T070000
END:DAYLIGHT
BEGIN:STANDARD
TZOFFSETFROM:-0400
TZOFFSETTO:-0500
TZNAME:EST
DTSTART:20231105T060000
END:STANDARD
BEGIN:DAYLIGHT
TZOFFSETFROM:-0500
TZOFFSETTO:-0400
TZNAME:EDT
DTSTART:20240310T070000
END:DAYLIGHT
BEGIN:STANDARD
TZOFFSETFROM:-0400
TZOFFSETTO:-0500
TZNAME:EST
DTSTART:20241103T060000
END:STANDARD
BEGIN:DAYLIGHT
TZOFFSETFROM:-0500
TZOFFSETTO:-0400
TZNAME:EDT
DTSTART:20250309T070000
END:DAYLIGHT
BEGIN:STANDARD
TZOFFSETFROM:-0400
TZOFFSETTO:-0500
TZNAME:EST
DTSTART:20251102T060000
END:STANDARD
BEGIN:DAYLIGHT
TZOFFSETFROM:-0500
TZOFFSETTO:-0400
TZNAME:EDT
DTSTART:20260308T070000
END:DAYLIGHT
BEGIN:STANDARD
TZOFFSETFROM:-0400
TZOFFSETTO:-0500
TZNAME:EST
DTSTART:20261101T060000
END:STANDARD
BEGIN:DAYLIGHT
TZOFFSETFROM:-0500
TZOFFSETTO:-0400
TZNAME:EDT
DTSTART:20270314T070000
END:DAYLIGHT
BEGIN:STANDARD
TZOFFSETFROM:-0400
TZOFFSETTO:-0500
TZNAME:EST
DTSTART:20271107T060000
END:STANDARD
END:VTIMEZONE
BEGIN:VEVENT
DTSTART;TZID=America/New_York:20260420T190000
DTEND;TZID=America/New_York:20260420T203000
DTSTAMP:20260425T101635
CREATED:20251009T141203Z
LAST-MODIFIED:20260420T123601Z
UID:7790-1776711600-1776717000@frankdeblasi.com
SUMMARY:Building a Successful YouTube Channel
DESCRIPTION:In this course\, you will learn the key aspects of building and branding a successful YouTube channel. Topics include basic video editing techniques\, creating effective thumbnails to increase clicks\, and writing compelling titles and descriptions. You will also learn how to create playlists\, host live streams\, monetize your videos\, and more. \nRegister Here
URL:https://frankdeblasi.com/event/building-a-successful-youtube-channel-4-20-2026/
LOCATION:Connetquot Public Library\, 760 Ocean Avenue\, Bohemia\, NY\, 11716\, United States
CATEGORIES:Educational Classes
ATTACH;FMTTYPE=image/jpeg:https://frankdeblasi.com/wp-content/uploads/2023/04/class-thumbnail-youtube-channel.jpg
ORGANIZER;CN="Frank DeBlasi":MAILTO:frankjdeblasi@gmail.com
END:VEVENT
BEGIN:VEVENT
DTSTART;TZID=America/New_York:20260413T190000
DTEND;TZID=America/New_York:20260413T203000
DTSTAMP:20260425T101635
CREATED:20260115T183514Z
LAST-MODIFIED:20260325T225225Z
UID:8655-1776106800-1776112200@frankdeblasi.com
SUMMARY:Make Money with Affiliate Marketing
DESCRIPTION:Do you want to make money online using your website\, social media channels\, and more? Become an affiliate marketer. Affiliate marketing is the process of earning commissions by driving traffic or conversions to other websites. This course covers how affiliate marketing works\, how to join affiliate programs and networks\, and the different types of affiliate partnerships—from website publishers to social media influencers. \nRegister Here
URL:https://frankdeblasi.com/event/make-money-with-affiliate-marketing-4-13-2026/
LOCATION:Connetquot Public Library\, 760 Ocean Avenue\, Bohemia\, NY\, 11716\, United States
CATEGORIES:Educational Classes
ATTACH;FMTTYPE=image/jpeg:https://frankdeblasi.com/wp-content/uploads/2023/07/class-thumbnail-affiliate-marketing.jpg
ORGANIZER;CN="Frank DeBlasi":MAILTO:frankjdeblasi@gmail.com
END:VEVENT
BEGIN:VEVENT
DTSTART;TZID=America/New_York:20251006T190000
DTEND;TZID=America/New_York:20251006T203000
DTSTAMP:20260425T101635
CREATED:20250721T175812Z
LAST-MODIFIED:20260121T215039Z
UID:7486-1759777200-1759782600@frankdeblasi.com
SUMMARY:Introduction to Cloud Computing
DESCRIPTION:This course provides a comprehensive overview of the fundamental concepts\, services\, and uses of cloud computing for both personal and business applications. You will learn how cloud computing works at a technical level\, understand the differences between backup services and file-syncing services\, and develop essential file management and organization skills to keep your devices clean\, backed up\, and running efficiently. \nRegister Here
URL:https://frankdeblasi.com/event/introduction-to-cloud-computing-10-6-2025/
LOCATION:Connetquot Public Library\, 760 Ocean Avenue\, Bohemia\, NY\, 11716\, United States
CATEGORIES:Educational Classes
ATTACH;FMTTYPE=image/jpeg:https://frankdeblasi.com/wp-content/uploads/2025/07/course-intro-to-cloud-computing.jpg
ORGANIZER;CN="Frank DeBlasi":MAILTO:frankjdeblasi@gmail.com
END:VEVENT
BEGIN:VEVENT
DTSTART;TZID=America/New_York:20250616T190000
DTEND;TZID=America/New_York:20250616T203000
DTSTAMP:20260425T101635
CREATED:20250401T144849Z
LAST-MODIFIED:20260121T215031Z
UID:5998-1750100400-1750105800@frankdeblasi.com
SUMMARY:Introduction to WordPress
DESCRIPTION:Go hands-on with the world’s most popular website content management system. In this course\, you will learn the benefits of building a website with WordPress and how to set it up and use its powerful features. Topics include creating content and pages\, adding themes and plugins\, and launching your site—covering all the essentials needed to get started with WordPress. \nRegister Here
URL:https://frankdeblasi.com/event/introduction-to-wordpress-6-16-2025/
LOCATION:Connetquot Public Library\, 760 Ocean Avenue\, Bohemia\, NY\, 11716\, United States
CATEGORIES:Educational Classes
ATTACH;FMTTYPE=image/jpeg:https://frankdeblasi.com/wp-content/uploads/2024/04/class-thumbnail-intro-to-wordpress.jpg
ORGANIZER;CN="Frank DeBlasi":MAILTO:frankjdeblasi@gmail.com
END:VEVENT
BEGIN:VEVENT
DTSTART;TZID=America/New_York:20250402T180000
DTEND;TZID=America/New_York:20250402T200000
DTSTAMP:20260425T101635
CREATED:20250213T152233Z
LAST-MODIFIED:20250319T140553Z
UID:5582-1743616800-1743624000@frankdeblasi.com
SUMMARY:Connetquot High School Career Night 2025
DESCRIPTION:Frank will be a guest panelist at the Career Night Fair at Connetquot High School\, and will be participating in career fair table\, panel\, and group discussions. Parents and students can discuss career opportunities in Digital Media\, Internet Technology\, and Entrepreneurship. Frank will also advise students on properly and professionally branding themselves online for their career. \nLearn More
URL:https://frankdeblasi.com/event/connetquot-high-school-career-night-2025/
LOCATION:Connetquot High School\, 190 Seventh Street\, Bohemia\, NY\, 11716-1331\, United States
CATEGORIES:Career Expos
ATTACH;FMTTYPE=image/jpeg:https://frankdeblasi.com/wp-content/uploads/2025/02/event-thumbnail-career-night-chs-2025.jpg
ORGANIZER;CN="Frank DeBlasi":MAILTO:frankjdeblasi@gmail.com
END:VEVENT
BEGIN:VEVENT
DTSTART;TZID=America/New_York:20250324T190000
DTEND;TZID=America/New_York:20250324T203000
DTSTAMP:20260425T101635
CREATED:20250122T232008Z
LAST-MODIFIED:20260121T215009Z
UID:5447-1742842800-1742848200@frankdeblasi.com
SUMMARY:Successfully Branding Yourself Online
DESCRIPTION:In this course\, you will learn how to establish and maintain a successful online presence in today’s digital world. The course provides an overview of creating and managing social media profiles\, personal websites\, digital business cards\, and more\, while covering the do’s and don’ts of building a professional and effective online image. \nRegister Here
URL:https://frankdeblasi.com/event/successfully-branding-yourself-online-3-24-2025/
LOCATION:Connetquot Public Library\, 760 Ocean Avenue\, Bohemia\, NY\, 11716\, United States
CATEGORIES:Educational Classes
ATTACH;FMTTYPE=image/jpeg:https://frankdeblasi.com/wp-content/uploads/2023/04/class-thumbnail-branding-yourself.jpg
ORGANIZER;CN="Frank DeBlasi":MAILTO:frankjdeblasi@gmail.com
END:VEVENT
BEGIN:VEVENT
DTSTART;TZID=America/New_York:20241216T190000
DTEND;TZID=America/New_York:20241216T203000
DTSTAMP:20260425T101635
CREATED:20241023T191255Z
LAST-MODIFIED:20260121T214955Z
UID:4907-1734375600-1734381000@frankdeblasi.com
SUMMARY:Building a Successful YouTube Channel
DESCRIPTION:In this course\, you will learn the key aspects of building and branding a successful YouTube channel. Topics include basic video editing techniques\, creating effective thumbnails to increase clicks\, and writing compelling titles and descriptions. You will also learn how to create playlists\, host live streams\, monetize your videos\, and more. \nRegister Here
URL:https://frankdeblasi.com/event/building-a-successful-youtube-channel-12-16-2024/
LOCATION:Connetquot Public Library\, 760 Ocean Avenue\, Bohemia\, NY\, 11716\, United States
CATEGORIES:Educational Classes
ATTACH;FMTTYPE=image/jpeg:https://frankdeblasi.com/wp-content/uploads/2023/04/class-thumbnail-youtube-channel.jpg
ORGANIZER;CN="Frank DeBlasi":MAILTO:frankjdeblasi@gmail.com
END:VEVENT
BEGIN:VEVENT
DTSTART;TZID=America/New_York:20241007T140000
DTEND;TZID=America/New_York:20241007T153000
DTSTAMP:20260425T101635
CREATED:20240725T015544Z
LAST-MODIFIED:20260121T214943Z
UID:4849-1728309600-1728315000@frankdeblasi.com
SUMMARY:Make Money with Affiliate Marketing
DESCRIPTION:Do you want to make money online using your website\, social media channels\, and more? Become an affiliate marketer. Affiliate marketing is the process of earning commissions by driving traffic or conversions to other websites. This course covers how affiliate marketing works\, how to join affiliate programs and networks\, and the different types of affiliate partnerships—from website publishers to social media influencers. \nRegister Here
URL:https://frankdeblasi.com/event/make-money-with-affiliate-marketing-10-7-2024/
LOCATION:Connetquot Public Library\, 760 Ocean Avenue\, Bohemia\, NY\, 11716\, United States
CATEGORIES:Educational Classes
ATTACH;FMTTYPE=image/jpeg:https://frankdeblasi.com/wp-content/uploads/2023/07/class-thumbnail-affiliate-marketing.jpg
ORGANIZER;CN="Frank DeBlasi":MAILTO:frankjdeblasi@gmail.com
END:VEVENT
BEGIN:VEVENT
DTSTART;TZID=America/New_York:20240722T140000
DTEND;TZID=America/New_York:20240722T153000
DTSTAMP:20260425T101635
CREATED:20240409T213646Z
LAST-MODIFIED:20260121T214932Z
UID:4608-1721656800-1721662200@frankdeblasi.com
SUMMARY:Introduction to WordPress
DESCRIPTION:Go hands-on with the world’s most popular website content management system. In this course\, you will learn the benefits of building a website with WordPress and how to set it up and use its powerful features. Topics include creating content and pages\, adding themes and plugins\, and launching your site—covering all the essentials needed to get started with WordPress. \nRegister Here
URL:https://frankdeblasi.com/event/introduction-to-wordpress-7-22-2024/
LOCATION:Connetquot Public Library\, 760 Ocean Avenue\, Bohemia\, NY\, 11716\, United States
CATEGORIES:Educational Classes
ATTACH;FMTTYPE=image/jpeg:https://frankdeblasi.com/wp-content/uploads/2024/04/class-thumbnail-intro-to-wordpress.jpg
ORGANIZER;CN="Frank DeBlasi":MAILTO:frankjdeblasi@gmail.com
END:VEVENT
BEGIN:VEVENT
DTSTART;TZID=America/New_York:20240311T140000
DTEND;TZID=America/New_York:20240311T153000
DTSTAMP:20260425T101635
CREATED:20240112T235922Z
LAST-MODIFIED:20260121T214912Z
UID:4491-1710165600-1710171000@frankdeblasi.com
SUMMARY:Website Building from the Ground Up
DESCRIPTION:This course provides a practical overview of what’s required to launch and manage a personal or small business website. Topics include choosing the right hosting provider\, understanding how content management systems work\, and driving traffic to your site for long-term success. \nRegister Here
URL:https://frankdeblasi.com/event/website-building-from-the-ground-up-3-11-2024/
LOCATION:Connetquot Public Library\, 760 Ocean Avenue\, Bohemia\, NY\, 11716\, United States
CATEGORIES:Educational Classes
ATTACH;FMTTYPE=image/jpeg:https://frankdeblasi.com/wp-content/uploads/2023/04/class-thumbnail-website-building.jpg
ORGANIZER;CN="Frank DeBlasi":MAILTO:frankjdeblasi@gmail.com
END:VEVENT
BEGIN:VEVENT
DTSTART;TZID=America/New_York:20240305T130000
DTEND;TZID=America/New_York:20240305T150000
DTSTAMP:20260425T101635
CREATED:20240217T090401Z
LAST-MODIFIED:20240217T090401Z
UID:4524-1709643600-1709650800@frankdeblasi.com
SUMMARY:Connetquot High School Career Night 2024
DESCRIPTION:Frank will be a guest panelist at the Career Night Fair at Connetquot High School\, and will be participating in career fair table\, panel\, and group discussions. Parents and students can discuss career opportunities in Digital Media\, Internet Technology\, and Entrepreneurship. Frank will also advise students on properly and professionally branding themselves online for their career. \nLearn More
URL:https://frankdeblasi.com/event/connetquot-high-school-career-night-2024/
LOCATION:Connetquot High School\, 190 Seventh Street\, Bohemia\, NY\, 11716-1331\, United States
CATEGORIES:Career Expos
ATTACH;FMTTYPE=image/jpeg:https://frankdeblasi.com/wp-content/uploads/2024/02/event-thumbnail-career-night-chs-2024.jpg
ORGANIZER;CN="Frank DeBlasi":MAILTO:frankjdeblasi@gmail.com
END:VEVENT
BEGIN:VEVENT
DTSTART;TZID=America/New_York:20231211T140000
DTEND;TZID=America/New_York:20231211T153000
DTSTAMP:20260425T101635
CREATED:20231020T050746Z
LAST-MODIFIED:20260121T214900Z
UID:4440-1702303200-1702308600@frankdeblasi.com
SUMMARY:Building a Successful YouTube Channel
DESCRIPTION:In this course\, you will learn the key aspects of building and branding a successful YouTube channel. Topics include basic video editing techniques\, creating effective thumbnails to increase clicks\, and writing compelling titles and descriptions. You will also learn how to create playlists\, host live streams\, monetize your videos\, and more. \nRegister Here
URL:https://frankdeblasi.com/event/building-a-successful-youtube-channel-12-11-2023/
LOCATION:Connetquot Public Library\, 760 Ocean Avenue\, Bohemia\, NY\, 11716\, United States
CATEGORIES:Educational Classes
ATTACH;FMTTYPE=image/jpeg:https://frankdeblasi.com/wp-content/uploads/2023/04/class-thumbnail-youtube-channel.jpg
ORGANIZER;CN="Frank DeBlasi":MAILTO:frankjdeblasi@gmail.com
END:VEVENT
BEGIN:VEVENT
DTSTART;TZID=America/New_York:20231103T050000
DTEND;TZID=America/New_York:20231103T060000
DTSTAMP:20260425T101635
CREATED:20231017T200902Z
LAST-MODIFIED:20231017T202433Z
UID:4428-1698987600-1698991200@frankdeblasi.com
SUMMARY:The Dr. Bill Williams Podcast
DESCRIPTION:Frank will be a guest on The Dr. Bill Williams Podcast\, hosted by Dr. Bill Williams. On the show\, Frank will talk about how he started his business\, Hoopla Doopla\, his struggles and successes along the way\, and how affiliate marketing can grow a business. \nDr. Bill Williams founded Solstice Dental Advisors and the 10K a Day Dentist Podcast. He is director of the 5M Mastermind where dentists learn to be $10\,000 a day producers and how to market and manage multi-million dollar practices. Over 45 years in practice he has been a noted international speaker\, business coach\, #1 best-selling author and clinician and still maintains a thriving private practice in Suwanee\, GA. He is also a member of the Leadership Council of ONPASSIVE. \nListen
URL:https://frankdeblasi.com/event/the-dr-bill-williams-podcast/
LOCATION:The Dr. Bill Williams Podcast\, GA\, United States
CATEGORIES:Podcasts
ORGANIZER;CN="Frank DeBlasi":MAILTO:frankjdeblasi@gmail.com
END:VEVENT
BEGIN:VEVENT
DTSTART;TZID=America/New_York:20231016T140000
DTEND;TZID=America/New_York:20231016T153000
DTSTAMP:20260425T101635
CREATED:20230722T080237Z
LAST-MODIFIED:20260121T214846Z
UID:4260-1697464800-1697470200@frankdeblasi.com
SUMMARY:Make Money with Affiliate Marketing
DESCRIPTION:Do you want to make money online using your website\, social media channels\, and more? Become an affiliate marketer. Affiliate marketing is the process of earning commissions by driving traffic or conversions to other websites. This course covers how affiliate marketing works\, how to join affiliate programs and networks\, and the different types of affiliate partnerships—from website publishers to social media influencers. \nRegister Here
URL:https://frankdeblasi.com/event/make-money-with-affiliate-marketing/
LOCATION:Connetquot Public Library\, 760 Ocean Avenue\, Bohemia\, NY\, 11716\, United States
CATEGORIES:Educational Classes
ATTACH;FMTTYPE=image/jpeg:https://frankdeblasi.com/wp-content/uploads/2023/07/class-thumbnail-affiliate-marketing.jpg
ORGANIZER;CN="Frank DeBlasi":MAILTO:frankjdeblasi@gmail.com
END:VEVENT
BEGIN:VEVENT
DTSTART;TZID=America/New_York:20230626T140000
DTEND;TZID=America/New_York:20230626T153000
DTSTAMP:20260425T101635
CREATED:20230331T203428Z
LAST-MODIFIED:20260121T214511Z
UID:2653-1687788000-1687793400@frankdeblasi.com
SUMMARY:Website Building from the Ground Up
DESCRIPTION:This course provides a practical overview of what’s required to launch and manage a personal or small business website. Topics include choosing the right hosting provider\, understanding how content management systems work\, and driving traffic to your site for long-term success. \nRegister Here
URL:https://frankdeblasi.com/event/website-building-from-the-ground-up-6-26-2023/
LOCATION:Connetquot Public Library\, 760 Ocean Avenue\, Bohemia\, NY\, 11716\, United States
CATEGORIES:Educational Classes
ATTACH;FMTTYPE=image/jpeg:https://frankdeblasi.com/wp-content/uploads/2023/04/class-thumbnail-website-building.jpg
ORGANIZER;CN="Frank DeBlasi":MAILTO:frankjdeblasi@gmail.com
END:VEVENT
BEGIN:VEVENT
DTSTART;TZID=America/New_York:20230424T123000
DTEND;TZID=America/New_York:20230424T150000
DTSTAMP:20260425T101635
CREATED:20230217T075211Z
LAST-MODIFIED:20240217T085841Z
UID:2084-1682339400-1682348400@frankdeblasi.com
SUMMARY:Connetquot High School Career Night 2023
DESCRIPTION:Frank will be a guest panelist at the Career Night Fair at Connetquot High School\, and will be participating in career fair table\, panel\, and group discussions. Parents and students can discuss career opportunities in Digital Media\, Internet Technology\, and Entrepreneurship. Frank will also advise students on properly and professionally branding themselves online. \nLearn More
URL:https://frankdeblasi.com/event/connetquot-high-school-career-night-2023/
LOCATION:Connetquot High School\, 190 Seventh Street\, Bohemia\, NY\, 11716-1331\, United States
CATEGORIES:Career Expos
ATTACH;FMTTYPE=image/jpeg:https://frankdeblasi.com/wp-content/uploads/2023/04/event-thumbnail-career-night-chs.jpg
ORGANIZER;CN="Frank DeBlasi":MAILTO:frankjdeblasi@gmail.com
END:VEVENT
BEGIN:VEVENT
DTSTART;TZID=America/New_York:20230424T051500
DTEND;TZID=America/New_York:20230424T054500
DTSTAMP:20260425T101635
CREATED:20230420T012148Z
LAST-MODIFIED:20230420T012211Z
UID:3284-1682313300-1682315100@frankdeblasi.com
SUMMARY:Meet the Elite Podcast
DESCRIPTION:Frank will be a guest on the Meet the Elite Podcast. On the show\, Frank will talk about how he started his business\, Hoopla Doopla\, and how he turned his members into revenue sharing partners. \nListen
URL:https://frankdeblasi.com/event/meet-the-elite-podcast/
LOCATION:Meet the Elite Podcast\, United States
CATEGORIES:Podcasts
ATTACH;FMTTYPE=image/jpeg:https://frankdeblasi.com/wp-content/uploads/2023/04/podcast_meet_the_elite.jpg
ORGANIZER;CN="Frank DeBlasi":MAILTO:frankjdeblasi@gmail.com
END:VEVENT
BEGIN:VEVENT
DTSTART;TZID=America/New_York:20230327T050000
DTEND;TZID=America/New_York:20230327T060000
DTSTAMP:20260425T101635
CREATED:20230326T203306Z
LAST-MODIFIED:20231017T200856Z
UID:2587-1679893200-1679896800@frankdeblasi.com
SUMMARY:The Unnoticed Entrepreneur Show
DESCRIPTION:Frank will be a guest on The Unnoticed Entrepreneur Show\, hosted by Jim James. On the show\, Frank will talk about how he started his business\, Hoopla Doopla\, his struggles and successes along the way\, and customer loyalty. \nListen
URL:https://frankdeblasi.com/event/the-unnoticed-entrepreneur-show/
LOCATION:The Unnoticed Entrepreneur Show\, United Kingdom
CATEGORIES:Podcasts
ATTACH;FMTTYPE=image/jpeg:https://frankdeblasi.com/wp-content/uploads/2023/04/podcast-unnoticed-entrepreneur-3-27-2023.jpg
ORGANIZER;CN="Frank DeBlasi":MAILTO:frankjdeblasi@gmail.com
END:VEVENT
BEGIN:VEVENT
DTSTART;TZID=America/New_York:20230322T160000
DTEND;TZID=America/New_York:20230322T170000
DTSTAMP:20260425T101635
CREATED:20230316T064110Z
LAST-MODIFIED:20230602T221247Z
UID:2292-1679500800-1679504400@frankdeblasi.com
SUMMARY:Make Money with Affiliate Marketing
DESCRIPTION:Join Frank DeBlasi on Radio Jobline with Scott Passesser\, as he talks about how to make money with affiliate marketing as a side or primary income. \nListen\n\nImage Credit: rawpixel.com on Freepik
URL:https://frankdeblasi.com/event/making-money-with-affiliate-marketing-3-22-23/
LOCATION:LI News Radio\, 100 Arrival Avenue\, Ronkonkoma\, NY\, 11779\, United States
CATEGORIES:Radio Shows
ATTACH;FMTTYPE=image/jpeg:https://frankdeblasi.com/wp-content/uploads/2023/04/radio-thumbnail-affiliate-marketing.jpg
END:VEVENT
BEGIN:VEVENT
DTSTART;TZID=America/New_York:20230320T140000
DTEND;TZID=America/New_York:20230320T153000
DTSTAMP:20260425T101635
CREATED:20230108T014444Z
LAST-MODIFIED:20260121T214441Z
UID:1946-1679320800-1679326200@frankdeblasi.com
SUMMARY:Successfully Branding Yourself Online
DESCRIPTION:In this course\, you will learn how to establish and maintain a successful online presence in today’s digital world. The course provides an overview of creating and managing social media profiles\, personal websites\, digital business cards\, and more\, while covering the do’s and don’ts of building a professional and effective online image. \nRegister Here
URL:https://frankdeblasi.com/event/successfully-branding-yourself-online/
LOCATION:Connetquot Public Library\, 760 Ocean Avenue\, Bohemia\, NY\, 11716\, United States
CATEGORIES:Educational Classes
ATTACH;FMTTYPE=image/jpeg:https://frankdeblasi.com/wp-content/uploads/2023/04/class-thumbnail-branding-yourself.jpg
ORGANIZER;CN="Frank DeBlasi":MAILTO:frankjdeblasi@gmail.com
END:VEVENT
BEGIN:VEVENT
DTSTART;TZID=America/New_York:20230318T090000
DTEND;TZID=America/New_York:20230318T100000
DTSTAMP:20260425T101635
CREATED:20230217T212455Z
LAST-MODIFIED:20230602T221225Z
UID:2099-1679130000-1679133600@frankdeblasi.com
SUMMARY:Make Money with Affiliate Marketing
DESCRIPTION:Join Frank DeBlasi on Radio Jobline with Scott Passesser\, as he talks about how to make money with affiliate marketing as a side or primary income. \nListen\n\nImage Credit: rawpixel.com on Freepik
URL:https://frankdeblasi.com/event/make-money-with-affiliate-marketing-3-18-23/
LOCATION:LI News Radio\, 100 Arrival Avenue\, Ronkonkoma\, NY\, 11779\, United States
CATEGORIES:Radio Shows
ATTACH;FMTTYPE=image/jpeg:https://frankdeblasi.com/wp-content/uploads/2023/04/radio-thumbnail-affiliate-marketing.jpg
ORGANIZER;CN="Frank DeBlasi":MAILTO:frankjdeblasi@gmail.com
END:VEVENT
BEGIN:VEVENT
DTSTART;TZID=America/New_York:20221219T140000
DTEND;TZID=America/New_York:20221219T153000
DTSTAMP:20260425T101635
CREATED:20221208T003620Z
LAST-MODIFIED:20260121T214415Z
UID:1809-1671458400-1671463800@frankdeblasi.com
SUMMARY:Building a Successful YouTube Channel
DESCRIPTION:In this course\, you will learn the key aspects of building and branding a successful YouTube channel. Topics include basic video editing techniques\, creating effective thumbnails to increase clicks\, and writing compelling titles and descriptions. You will also learn how to create playlists\, host live streams\, monetize your videos\, and more. \nRegister Here
URL:https://frankdeblasi.com/event/building-a-successful-youtube-channel/
LOCATION:Connetquot Public Library\, 760 Ocean Avenue\, Bohemia\, NY\, 11716\, United States
CATEGORIES:Educational Classes
ATTACH;FMTTYPE=image/jpeg:https://frankdeblasi.com/wp-content/uploads/2023/04/class-thumbnail-youtube-channel.jpg
ORGANIZER;CN="Frank DeBlasi":MAILTO:frankjdeblasi@gmail.com
END:VEVENT
BEGIN:VEVENT
DTSTART;TZID=America/New_York:20220815T140000
DTEND;TZID=America/New_York:20220815T153000
DTSTAMP:20260425T101635
CREATED:20221208T010114Z
LAST-MODIFIED:20260121T214354Z
UID:1817-1660572000-1660577400@frankdeblasi.com
SUMMARY:Website Building from the Ground Up
DESCRIPTION:This course provides a practical overview of what’s required to launch and manage a personal or small business website. Topics include choosing the right hosting provider\, understanding how content management systems work\, and driving traffic to your site for long-term success. \nRegister Here
URL:https://frankdeblasi.com/event/website-building-from-the-ground-up-8-15-2022/
LOCATION:Connetquot Public Library\, 760 Ocean Avenue\, Bohemia\, NY\, 11716\, United States
CATEGORIES:Educational Classes
ATTACH;FMTTYPE=image/jpeg:https://frankdeblasi.com/wp-content/uploads/2023/04/class-thumbnail-website-building.jpg
ORGANIZER;CN="Frank DeBlasi":MAILTO:frankjdeblasi@gmail.com
END:VEVENT
END:VCALENDAR