BEGIN:VCALENDAR
VERSION:2.0
PRODID:-//Frank DeBlasi - ECPv6.15.20//NONSGML v1.0//EN
CALSCALE:GREGORIAN
METHOD:PUBLISH
X-WR-CALNAME:Frank DeBlasi
X-ORIGINAL-URL:https://frankdeblasi.com
X-WR-CALDESC:Events for Frank DeBlasi
REFRESH-INTERVAL;VALUE=DURATION:PT1H
X-Robots-Tag:noindex
X-PUBLISHED-TTL:PT1H
BEGIN:VTIMEZONE
TZID:America/New_York
BEGIN:DAYLIGHT
TZOFFSETFROM:-0500
TZOFFSETTO:-0400
TZNAME:EDT
DTSTART:20250309T070000
END:DAYLIGHT
BEGIN:STANDARD
TZOFFSETFROM:-0400
TZOFFSETTO:-0500
TZNAME:EST
DTSTART:20251102T060000
END:STANDARD
BEGIN:DAYLIGHT
TZOFFSETFROM:-0500
TZOFFSETTO:-0400
TZNAME:EDT
DTSTART:20260308T070000
END:DAYLIGHT
BEGIN:STANDARD
TZOFFSETFROM:-0400
TZOFFSETTO:-0500
TZNAME:EST
DTSTART:20261101T060000
END:STANDARD
BEGIN:DAYLIGHT
TZOFFSETFROM:-0500
TZOFFSETTO:-0400
TZNAME:EDT
DTSTART:20270314T070000
END:DAYLIGHT
BEGIN:STANDARD
TZOFFSETFROM:-0400
TZOFFSETTO:-0500
TZNAME:EST
DTSTART:20271107T060000
END:STANDARD
END:VTIMEZONE
BEGIN:VEVENT
DTSTART;TZID=America/New_York:20260810T193000
DTEND;TZID=America/New_York:20260810T203000
DTSTAMP:20260423T070105
CREATED:20260420T123728Z
LAST-MODIFIED:20260420T124430Z
UID:9720-1786390200-1786393800@frankdeblasi.com
SUMMARY:Using AI for Digital Design
DESCRIPTION:Curious about using AI in your creative projects? This lecture-style class explores how artificial intelligence is transforming digital design—from generating images and layouts to enhancing creativity and workflow. We’ll cover popular tools\, real-world examples\, and practical tips for getting started\, all in an easy-to-follow format. Perfect for beginners and anyone interested in the future of design—no prior experience required. \nRegister Here
URL:https://frankdeblasi.com/event/using-ai-for-digital-design-8-10-2026/
LOCATION:Connetquot Public Library\, 760 Ocean Avenue\, Bohemia\, NY\, 11716\, United States
CATEGORIES:Educational Classes
ATTACH;FMTTYPE=image/jpeg:https://frankdeblasi.com/wp-content/uploads/2026/04/course-ai-for-digital-design.jpg
ORGANIZER;CN="Frank DeBlasi":MAILTO:frankjdeblasi@gmail.com
END:VEVENT
END:VCALENDAR