BEGIN:VCALENDAR
VERSION:2.0
PRODID:-//Frank DeBlasi - ECPv6.15.20//NONSGML v1.0//EN
CALSCALE:GREGORIAN
METHOD:PUBLISH
X-ORIGINAL-URL:https://frankdeblasi.com
X-WR-CALDESC:Events for Frank DeBlasi
REFRESH-INTERVAL;VALUE=DURATION:PT1H
X-Robots-Tag:noindex
X-PUBLISHED-TTL:PT1H
BEGIN:VTIMEZONE
TZID:America/New_York
BEGIN:DAYLIGHT
TZOFFSETFROM:-0500
TZOFFSETTO:-0400
TZNAME:EDT
DTSTART:20250309T070000
END:DAYLIGHT
BEGIN:STANDARD
TZOFFSETFROM:-0400
TZOFFSETTO:-0500
TZNAME:EST
DTSTART:20251102T060000
END:STANDARD
BEGIN:DAYLIGHT
TZOFFSETFROM:-0500
TZOFFSETTO:-0400
TZNAME:EDT
DTSTART:20260308T070000
END:DAYLIGHT
BEGIN:STANDARD
TZOFFSETFROM:-0400
TZOFFSETTO:-0500
TZNAME:EST
DTSTART:20261101T060000
END:STANDARD
BEGIN:DAYLIGHT
TZOFFSETFROM:-0500
TZOFFSETTO:-0400
TZNAME:EDT
DTSTART:20270314T070000
END:DAYLIGHT
BEGIN:STANDARD
TZOFFSETFROM:-0400
TZOFFSETTO:-0500
TZNAME:EST
DTSTART:20271107T060000
END:STANDARD
END:VTIMEZONE
BEGIN:VEVENT
DTSTART;TZID=America/New_York:20260420T190000
DTEND;TZID=America/New_York:20260420T203000
DTSTAMP:20260425T115600
CREATED:20251009T141203Z
LAST-MODIFIED:20260420T123601Z
UID:7790-1776711600-1776717000@frankdeblasi.com
SUMMARY:Building a Successful YouTube Channel
DESCRIPTION:In this course\, you will learn the key aspects of building and branding a successful YouTube channel. Topics include basic video editing techniques\, creating effective thumbnails to increase clicks\, and writing compelling titles and descriptions. You will also learn how to create playlists\, host live streams\, monetize your videos\, and more. \nRegister Here
URL:https://frankdeblasi.com/event/building-a-successful-youtube-channel-4-20-2026/
LOCATION:Connetquot Public Library\, 760 Ocean Avenue\, Bohemia\, NY\, 11716\, United States
CATEGORIES:Educational Classes
ATTACH;FMTTYPE=image/jpeg:https://frankdeblasi.com/wp-content/uploads/2023/04/class-thumbnail-youtube-channel.jpg
ORGANIZER;CN="Frank DeBlasi":MAILTO:frankjdeblasi@gmail.com
END:VEVENT
END:VCALENDAR