BEGIN:VCALENDAR
VERSION:2.0
PRODID:-//Frank DeBlasi - ECPv6.15.20//NONSGML v1.0//EN
CALSCALE:GREGORIAN
METHOD:PUBLISH
X-WR-CALNAME:Frank DeBlasi
X-ORIGINAL-URL:https://frankdeblasi.com
X-WR-CALDESC:Events for Frank DeBlasi
REFRESH-INTERVAL;VALUE=DURATION:PT1H
X-Robots-Tag:noindex
X-PUBLISHED-TTL:PT1H
BEGIN:VTIMEZONE
TZID:America/New_York
BEGIN:DAYLIGHT
TZOFFSETFROM:-0500
TZOFFSETTO:-0400
TZNAME:EDT
DTSTART:20250309T070000
END:DAYLIGHT
BEGIN:STANDARD
TZOFFSETFROM:-0400
TZOFFSETTO:-0500
TZNAME:EST
DTSTART:20251102T060000
END:STANDARD
BEGIN:DAYLIGHT
TZOFFSETFROM:-0500
TZOFFSETTO:-0400
TZNAME:EDT
DTSTART:20260308T070000
END:DAYLIGHT
BEGIN:STANDARD
TZOFFSETFROM:-0400
TZOFFSETTO:-0500
TZNAME:EST
DTSTART:20261101T060000
END:STANDARD
BEGIN:DAYLIGHT
TZOFFSETFROM:-0500
TZOFFSETTO:-0400
TZNAME:EDT
DTSTART:20270314T070000
END:DAYLIGHT
BEGIN:STANDARD
TZOFFSETFROM:-0400
TZOFFSETTO:-0500
TZNAME:EST
DTSTART:20271107T060000
END:STANDARD
END:VTIMEZONE
BEGIN:VEVENT
DTSTART;TZID=America/New_York:20260413T190000
DTEND;TZID=America/New_York:20260413T203000
DTSTAMP:20260425T115424
CREATED:20260115T183514Z
LAST-MODIFIED:20260325T225225Z
UID:8655-1776106800-1776112200@frankdeblasi.com
SUMMARY:Make Money with Affiliate Marketing
DESCRIPTION:Do you want to make money online using your website\, social media channels\, and more? Become an affiliate marketer. Affiliate marketing is the process of earning commissions by driving traffic or conversions to other websites. This course covers how affiliate marketing works\, how to join affiliate programs and networks\, and the different types of affiliate partnerships—from website publishers to social media influencers. \nRegister Here
URL:https://frankdeblasi.com/event/make-money-with-affiliate-marketing-4-13-2026/
LOCATION:Connetquot Public Library\, 760 Ocean Avenue\, Bohemia\, NY\, 11716\, United States
CATEGORIES:Educational Classes
ATTACH;FMTTYPE=image/jpeg:https://frankdeblasi.com/wp-content/uploads/2023/07/class-thumbnail-affiliate-marketing.jpg
ORGANIZER;CN="Frank DeBlasi":MAILTO:frankjdeblasi@gmail.com
END:VEVENT
END:VCALENDAR